BEGIN:VCALENDAR
VERSION:2.0
PRODID:-//Squarespace Inc/Squarespace 6//v6//EN
BEGIN:VEVENT
UID:5a34cffd24a6949ae3c998a5@squarespace.com
DTSTAMP:20171229T084101Z
DTSTART:20171230T083000Z
DTEND:20171230T100000Z
SUMMARY:Bible Study
END:VEVENT
END:VCALENDAR
