BEGIN:VCALENDAR
VERSION:2.0
PRODID:-//Squarespace Inc/Squarespace 6//v6//EN
BEGIN:VEVENT
UID:5a443ead9140b74c015f9c87@squarespace.com
DTSTAMP:20180101T113421Z
DTSTART:20180113T083000Z
DTEND:20180113T103000Z
SUMMARY:Sermon week
END:VEVENT
END:VCALENDAR
