BEGIN:VCALENDAR
VERSION:2.0
PRODID:-//Squarespace Inc/Squarespace 6//v6//EN
BEGIN:VEVENT
UID:5a443f5c24a694671ff41eba@squarespace.com
DTSTAMP:20180101T113439Z
DTSTART:20180120T083000Z
DTEND:20180120T103000Z
SUMMARY:Bible Study
END:VEVENT
END:VCALENDAR
