BEGIN:VCALENDAR
VERSION:2.0
PRODID:-//Squarespace Inc/Squarespace 6//v6//EN
BEGIN:VEVENT
UID:5a444183f9619a2bb2ddcbc3@squarespace.com
DTSTAMP:20180101T103022Z
DTSTART:20180128T090000Z
DTEND:20180128T110000Z
SUMMARY:Church United
END:VEVENT
END:VCALENDAR
