BEGIN:VCALENDAR
VERSION:2.0
PRODID:-//Squarespace Inc/Squarespace 6//v6//EN
BEGIN:VEVENT
UID:5a443de58165f5bbbf7c7d22@squarespace.com
DTSTAMP:20180101T113404Z
DTSTART:20180106T083000Z
DTEND:20180106T103000Z
SUMMARY:Hebrew Study
END:VEVENT
END:VCALENDAR
