BEGIN:VCALENDAR
VERSION:2.0
PRODID:-//Squarespace Inc/Squarespace 6//v6//EN
BEGIN:VEVENT
UID:5b653a03758d46d342490adc@squarespace.com
DTSTAMP:20180923T032243Z
DTSTART:20181013T083000Z
DTEND:20181013T103000Z
SUMMARY: Bible Study
END:VEVENT
END:VCALENDAR
