BEGIN:VCALENDAR
VERSION:2.0
PRODID:-//Squarespace Inc/Squarespace 6//v6//EN
BEGIN:VEVENT
UID:5b653b2d0e2e72aae868eb82@squarespace.com
DTSTAMP:20180930T043104Z
DTSTART:20181020T083000Z
DTEND:20181020T103000Z
SUMMARY:Bible study
END:VEVENT
END:VCALENDAR
