BEGIN:VCALENDAR
VERSION:2.0
PRODID:-//Squarespace Inc/Squarespace 6//v6//EN
BEGIN:VEVENT
UID:5ba708748165f56e067f2d4f@squarespace.com
DTSTAMP:20180923T033524Z
DTSTART:20181028T090000Z
DTEND:20181028T110000Z
SUMMARY:Church United
END:VEVENT
END:VCALENDAR
