BEGIN:VCALENDAR
VERSION:2.0
PRODID:-//Squarespace Inc/Squarespace 6//v6//EN
BEGIN:VEVENT
UID:5b6539772b6a286b620432b2@squarespace.com
DTSTAMP:20180804T052947Z
DTSTART:20181006T083000Z
DTEND:20181006T103000Z
SUMMARY:Bible Study
END:VEVENT
END:VCALENDAR
