BEGIN:VCALENDAR
VERSION:2.0
PRODID:-//Squarespace Inc/Squarespace 6//v6//EN
BEGIN:VEVENT
UID:5bde9d120e2e7288871623f8@squarespace.com
DTSTAMP:20181104T071903Z
DTSTART:20181110T083000Z
DTEND:20181110T103000Z
SUMMARY:Bible Study
END:VEVENT
END:VCALENDAR
