BEGIN:VCALENDAR
VERSION:2.0
PRODID:-//Squarespace Inc/Squarespace 6//v6//EN
BEGIN:VEVENT
UID:5be65d0dc2241b1b84ce0eb0@squarespace.com
DTSTAMP:20181110T042908Z
DTSTART:20181117T083000Z
DTEND:20181117T103000Z
SUMMARY:The Forums
END:VEVENT
END:VCALENDAR
