BEGIN:VCALENDAR
VERSION:2.0
PRODID:-//Squarespace Inc/Squarespace 6//v6//EN
BEGIN:VEVENT
UID:5bb051a70d929713f2a001d8@squarespace.com
DTSTAMP:20180930T043258Z
DTSTART:20181103T083000Z
DTEND:20181103T103000Z
SUMMARY:Hebrew Study
END:VEVENT
END:VCALENDAR
