BEGIN:VCALENDAR
VERSION:2.0
PRODID:-//Squarespace Inc/Squarespace 6//v6//EN
BEGIN:VEVENT
UID:5c07bccc758d46a635063879@squarespace.com
DTSTAMP:20181205T115801Z
DTSTART:20181215T090000Z
DTEND:20181215T130000Z
SUMMARY:Christmas get together
END:VEVENT
END:VCALENDAR
