BEGIN:VCALENDAR
VERSION:2.0
PRODID:-//Squarespace Inc/Squarespace 6//v6//EN
BEGIN:VEVENT
UID:5c07bd5f2b6a28d46468db6a@squarespace.com
DTSTAMP:20181205T120037Z
DTSTART:20181222T083000Z
DTEND:20181222T103000Z
SUMMARY:Christmas meeting
END:VEVENT
END:VCALENDAR
