BEGIN:VCALENDAR
VERSION:2.0
PRODID:-//Squarespace Inc/Squarespace 6//v6//EN
BEGIN:VEVENT
UID:5c07be0c88251b97f040c413@squarespace.com
DTSTAMP:20181205T120319Z
DTSTART:20181230T090000Z
DTEND:20181230T120000Z
SUMMARY:No Service
END:VEVENT
END:VCALENDAR
