BEGIN:VCALENDAR
VERSION:2.0
PRODID:-//Squarespace Inc/Squarespace 6//v6//EN
BEGIN:VEVENT
UID:5c07bc314ae237925381cf74@squarespace.com
DTSTAMP:20181205T115521Z
DTSTART:20181208T083000Z
DTEND:20181208T103000Z
SUMMARY:Hebrew Study
END:VEVENT
END:VCALENDAR
