BEGIN:VCALENDAR
VERSION:2.0
PRODID:-//Squarespace Inc/Squarespace 6//v6//EN
BEGIN:VEVENT
UID:5a4a0e8ce4966b19e3170b7b@squarespace.com
DTSTAMP:20180101T105124Z
DTSTART:20180210T083000Z
DTEND:20180210T103000Z
SUMMARY:Sermon week
END:VEVENT
END:VCALENDAR
