BEGIN:VCALENDAR
VERSION:2.0
PRODID:-//Squarespace Inc/Squarespace 6//v6//EN
BEGIN:VEVENT
UID:5a4a0f77e2c483236c064a56@squarespace.com
DTSTAMP:20180101T103930Z
DTSTART:20180217T083000Z
DTEND:20180217T103000Z
SUMMARY:Hebrew Study
END:VEVENT
END:VCALENDAR
