BEGIN:VCALENDAR
VERSION:2.0
PRODID:-//Squarespace Inc/Squarespace 6//v6//EN
BEGIN:VEVENT
UID:5a4a0ff7e4966b19e3171a7d@squarespace.com
DTSTAMP:20180101T104131Z
DTSTART:20180225T090000Z
DTEND:20180225T110000Z
SUMMARY:Church United
END:VEVENT
END:VCALENDAR
