BEGIN:VCALENDAR
VERSION:2.0
PRODID:-//Squarespace Inc/Squarespace 6//v6//EN
BEGIN:VEVENT
UID:5a4a0defc83025f8449ad31b@squarespace.com
DTSTAMP:20180101T103256Z
DTSTART:20180203T083000Z
DTEND:20180203T103000Z
SUMMARY:Bible Study
END:VEVENT
END:VCALENDAR
