BEGIN:VCALENDAR
VERSION:2.0
PRODID:-//Squarespace Inc/Squarespace 6//v6//EN
BEGIN:VEVENT
UID:5a4a113aec212ddd08fc6c54@squarespace.com
DTSTAMP:20180101T104659Z
DTSTART:20180310T083000Z
DTEND:20180310T103000Z
SUMMARY:Sermon week
END:VEVENT
END:VCALENDAR
