BEGIN:VCALENDAR
VERSION:2.0
PRODID:-//Squarespace Inc/Squarespace 6//v6//EN
BEGIN:VEVENT
UID:5a4a1347e2c483236c0676d2@squarespace.com
DTSTAMP:20180101T105546Z
DTSTART:20180317T083000Z
DTEND:20180317T103000Z
SUMMARY:Hebrew week
END:VEVENT
END:VCALENDAR
