BEGIN:VCALENDAR
VERSION:2.0
PRODID:-//Squarespace Inc/Squarespace 6//v6//EN
BEGIN:VEVENT
UID:5a4a13d8652deacfabeec63e@squarespace.com
DTSTAMP:20180101T105741Z
DTSTART:20180325T090000Z
DTEND:20180325T110000Z
SUMMARY:Church United
END:VEVENT
END:VCALENDAR
