BEGIN:VCALENDAR
VERSION:2.0
PRODID:-//Squarespace Inc/Squarespace 6//v6//EN
BEGIN:VEVENT
UID:5a4a10bf71c10bd7b346cd1e@squarespace.com
DTSTAMP:20180101T104428Z
DTSTART:20180303T083000Z
DTEND:20180303T103000Z
SUMMARY:Bible Study
END:VEVENT
END:VCALENDAR
