BEGIN:VCALENDAR
VERSION:2.0
PRODID:-//Squarespace Inc/Squarespace 6//v6//EN
BEGIN:VEVENT
UID:5aae52b71ae6cf0c78c9dbaf@squarespace.com
DTSTAMP:20180318T115657Z
DTSTART:20180330T083000Z
DTEND:20180330T103000Z
SUMMARY:Good Friday reflection
END:VEVENT
END:VCALENDAR
