BEGIN:VCALENDAR
VERSION:2.0
PRODID:-//Squarespace Inc/Squarespace 6//v6//EN
BEGIN:VEVENT
UID:5aae541988251b56305d28dc@squarespace.com
DTSTAMP:20180318T115844Z
DTSTART:20180331T083000Z
DTEND:20180331T103000Z
SUMMARY:Easter Service
END:VEVENT
END:VCALENDAR
