BEGIN:VCALENDAR
VERSION:2.0
PRODID:-//Squarespace Inc/Squarespace 6//v6//EN
BEGIN:VEVENT
UID:5aae5501aa4a99e0218b61e2@squarespace.com
DTSTAMP:20180318T120308Z
DTSTART:20180414T083000Z
DTEND:20180414T103000Z
SUMMARY:Sermon / Bible Study
END:VEVENT
END:VCALENDAR
