BEGIN:VCALENDAR
VERSION:2.0
PRODID:-//Squarespace Inc/Squarespace 6//v6//EN
BEGIN:VEVENT
UID:5aae55906d2a7312c15581bc@squarespace.com
DTSTAMP:20180318T120600Z
DTSTART:20180421T083000Z
DTEND:20180421T103000Z
SUMMARY:Hebrew Study
END:VEVENT
END:VCALENDAR
