BEGIN:VCALENDAR
VERSION:2.0
PRODID:-//Squarespace Inc/Squarespace 6//v6//EN
BEGIN:VEVENT
UID:5aae56400e2e725448dfbe55@squarespace.com
DTSTAMP:20180318T120751Z
DTSTART:20180429T090000Z
DTEND:20180429T110000Z
SUMMARY:Church United
END:VEVENT
END:VCALENDAR
