BEGIN:VCALENDAR
VERSION:2.0
PRODID:-//Squarespace Inc/Squarespace 6//v6//EN
BEGIN:VEVENT
UID:5aae548d70a6adbf54be6f7d@squarespace.com
DTSTAMP:20180318T121707Z
DTSTART:20180407T083000Z
DTEND:20180407T103000Z
SUMMARY:Bible Study
END:VEVENT
END:VCALENDAR
