BEGIN:VCALENDAR
VERSION:2.0
PRODID:-//Squarespace Inc/Squarespace 6//v6//EN
BEGIN:VEVENT
UID:5aae5731aa4a99e0218b8da9@squarespace.com
DTSTAMP:20180318T121321Z
DTSTART:20180512T083000Z
DTEND:20180512T103000Z
SUMMARY:Sermon / Bible Study
END:VEVENT
END:VCALENDAR
