BEGIN:VCALENDAR
VERSION:2.0
PRODID:-//Squarespace Inc/Squarespace 6//v6//EN
BEGIN:VEVENT
UID:5aae57ff88251b56305d756a@squarespace.com
DTSTAMP:20180318T121519Z
DTSTART:20180519T083000Z
DTEND:20180519T103000Z
SUMMARY:Hebrew Study
END:VEVENT
END:VCALENDAR
