BEGIN:VCALENDAR
VERSION:2.0
PRODID:-//Squarespace Inc/Squarespace 6//v6//EN
BEGIN:VEVENT
UID:5aae595b1ae6cf0c78ca5d06@squarespace.com
DTSTAMP:20180318T122101Z
DTSTART:20180527T090000Z
DTEND:20180527T110000Z
SUMMARY:Church United
END:VEVENT
END:VCALENDAR
