BEGIN:VCALENDAR
VERSION:2.0
PRODID:-//Squarespace Inc/Squarespace 6//v6//EN
BEGIN:VEVENT
UID:5aae56c2562fa7d5c710762f@squarespace.com
DTSTAMP:20180318T121007Z
DTSTART:20180505T083000Z
DTEND:20180505T103000Z
SUMMARY:Bible Study
END:VEVENT
END:VCALENDAR
