BEGIN:VCALENDAR
VERSION:2.0
PRODID:-//Squarespace Inc/Squarespace 6//v6//EN
BEGIN:VEVENT
UID:5ae566088a922de4678f5a8b@squarespace.com
DTSTAMP:20180429T063005Z
DTSTART:20180616T083000Z
DTEND:20180616T103000Z
SUMMARY:Hebrew study
END:VEVENT
END:VCALENDAR
