BEGIN:VCALENDAR
VERSION:2.0
PRODID:-//Squarespace Inc/Squarespace 6//v6//EN
BEGIN:VEVENT
UID:5ae5647f1ae6cfa83d426555@squarespace.com
DTSTAMP:20180429T062616Z
DTSTART:20180602T083000Z
DTEND:20180602T103000Z
SUMMARY:Bible Study
END:VEVENT
END:VCALENDAR
