BEGIN:VCALENDAR
VERSION:2.0
PRODID:-//Squarespace Inc/Squarespace 6//v6//EN
BEGIN:VEVENT
UID:5ae5667a758d46d77ffb1d25@squarespace.com
DTSTAMP:20180429T063310Z
DTSTART:20180624T090000Z
DTEND:20180624T110000Z
SUMMARY:Church United
END:VEVENT
END:VCALENDAR
