BEGIN:VCALENDAR
VERSION:2.0
PRODID:-//Squarespace Inc/Squarespace 6//v6//EN
BEGIN:VEVENT
UID:5ae5659a758d46d77ffb0e8a@squarespace.com
DTSTAMP:20180429T062812Z
DTSTART:20180609T083000Z
DTEND:20180609T103000Z
SUMMARY:Sermon / Bible Study
END:VEVENT
END:VCALENDAR
