BEGIN:VCALENDAR
VERSION:2.0
PRODID:-//Squarespace Inc/Squarespace 6//v6//EN
BEGIN:VEVENT
UID:5ae567b5575d1fd630d50d04@squarespace.com
DTSTAMP:20180429T063752Z
DTSTART:20180714T083000Z
DTEND:20180714T103000Z
SUMMARY:Sermon /Bible Study
END:VEVENT
END:VCALENDAR
