BEGIN:VCALENDAR
VERSION:2.0
PRODID:-//Squarespace Inc/Squarespace 6//v6//EN
BEGIN:VEVENT
UID:5ae5685b758d46d77ffb3d0b@squarespace.com
DTSTAMP:20180429T064802Z
DTSTART:20180721T083000Z
DTEND:20180721T103000Z
SUMMARY:Hebrew study
END:VEVENT
END:VCALENDAR
