BEGIN:VCALENDAR
VERSION:2.0
PRODID:-//Squarespace Inc/Squarespace 6//v6//EN
BEGIN:VEVENT
UID:5ae569880e2e72dfd9fab44a@squarespace.com
DTSTAMP:20180429T064412Z
DTSTART:20180729T090000Z
DTEND:20180729T110000Z
SUMMARY:Church United
END:VEVENT
END:VCALENDAR
