BEGIN:VCALENDAR
VERSION:2.0
PRODID:-//Squarespace Inc/Squarespace 6//v6//EN
BEGIN:VEVENT
UID:5ae5674a88251bd2b3d20854@squarespace.com
DTSTAMP:20180429T063519Z
DTSTART:20180707T083000Z
DTEND:20180707T103000Z
SUMMARY:Bible Study
END:VEVENT
END:VCALENDAR
