BEGIN:VCALENDAR
VERSION:2.0
PRODID:-//Squarespace Inc/Squarespace 6//v6//EN
BEGIN:VEVENT
UID:5b30ce712b6a28effe157b12@squarespace.com
DTSTAMP:20180625T111529Z
DTSTART:20180811T083000Z
DTEND:20180811T103000Z
SUMMARY:Sermon/ Bible Study
END:VEVENT
END:VCALENDAR
