BEGIN:VCALENDAR
VERSION:2.0
PRODID:-//Squarespace Inc/Squarespace 6//v6//EN
BEGIN:VEVENT
UID:5b30cef870a6ade8bcd52319@squarespace.com
DTSTAMP:20180625T111751Z
DTSTART:20180818T083000Z
DTEND:20180818T103000Z
SUMMARY:Hebrew Study
END:VEVENT
END:VCALENDAR
