BEGIN:VCALENDAR
VERSION:2.0
PRODID:-//Squarespace Inc/Squarespace 6//v6//EN
BEGIN:VEVENT
UID:5b30cf8f2b6a28effe1596e0@squarespace.com
DTSTAMP:20180625T111943Z
DTSTART:20180826T090000Z
DTEND:20180826T110000Z
SUMMARY:Church United
END:VEVENT
END:VCALENDAR
