BEGIN:VCALENDAR
VERSION:2.0
PRODID:-//Squarespace Inc/Squarespace 6//v6//EN
BEGIN:VEVENT
UID:5b30cd4288251b30912c1e27@squarespace.com
DTSTAMP:20180625T111319Z
DTSTART:20180804T083000Z
DTEND:20180804T103000Z
SUMMARY:Bible Study
END:VEVENT
END:VCALENDAR
