BEGIN:VCALENDAR
VERSION:2.0
PRODID:-//Squarespace Inc/Squarespace 6//v6//EN
BEGIN:VEVENT
UID:5b30cffb758d46fa66164dd9@squarespace.com
DTSTAMP:20180625T112207Z
DTSTART:20180901T083000Z
DTEND:20180901T103000Z
SUMMARY:Bible Study
END:VEVENT
END:VCALENDAR
