BEGIN:VCALENDAR
VERSION:2.0
PRODID:-//Squarespace Inc/Squarespace 6//v6//EN
BEGIN:VEVENT
UID:5b65378e88251b175434bdf5@squarespace.com
DTSTAMP:20180804T052255Z
DTSTART:20180915T083000Z
DTEND:20180915T103000Z
SUMMARY:Hebrew Study
END:VEVENT
END:VCALENDAR
