BEGIN:VCALENDAR
VERSION:2.0
PRODID:-//Squarespace Inc/Squarespace 6//v6//EN
BEGIN:VEVENT
UID:5b6538421ae6cf3410e62b03@squarespace.com
DTSTAMP:20180804T052454Z
DTSTART:20180922T083000Z
DTEND:20180922T103000Z
SUMMARY:Bible Study Part2
END:VEVENT
END:VCALENDAR
