BEGIN:VCALENDAR
VERSION:2.0
PRODID:-//Squarespace Inc/Squarespace 6//v6//EN
BEGIN:VEVENT
UID:5b6538c870a6adef3bd9466e@squarespace.com
DTSTAMP:20180804T052758Z
DTSTART:20180930T090000Z
DTEND:20180930T110000Z
SUMMARY:Church United
END:VEVENT
END:VCALENDAR
